BEGIN:VCALENDAR
VERSION:2.0
PRODID:-//Plone.org//NONSGML plone.app.event//EN
X-WR-TIMEZONE:Europe/Brussels
BEGIN:VEVENT
SUMMARY:Life4Fish Webinar
DTSTART;TZID=Europe/Brussels;VALUE=DATE-TIME:20201113T140000
DTEND;TZID=Europe/Brussels;VALUE=DATE-TIME:20201113T153000
DTSTAMP;VALUE=DATE-TIME:20260424T203428Z
UID:6522792d05454a66805feb85dabf56aa
CREATED;VALUE=DATE-TIME:20201019T101750Z
LAST-MODIFIED;VALUE=DATE-TIME:20201119T103805Z
LOCATION:online event
URL:https://ilee.unamur.be/events/life4fish-webinar
END:VEVENT
BEGIN:VTIMEZONE
TZID:Europe/Brussels
X-LIC-LOCATION:Europe/Brussels
BEGIN:STANDARD
DTSTART;VALUE=DATE-TIME:20201025T020000
TZNAME:CET
TZOFFSETFROM:+0200
TZOFFSETTO:+0100
END:STANDARD
END:VTIMEZONE
END:VCALENDAR
